BEGIN:VCALENDAR
VERSION:2.0
PRODID:-//LemonLab - ECPv6.15.11//NONSGML v1.0//EN
CALSCALE:GREGORIAN
METHOD:PUBLISH
X-WR-CALNAME:LemonLab
X-ORIGINAL-URL:https://lemonlab.cz
X-WR-CALDESC:Akce na LemonLab
REFRESH-INTERVAL;VALUE=DURATION:PT1H
X-Robots-Tag:noindex
X-PUBLISHED-TTL:PT1H
BEGIN:VTIMEZONE
TZID:UTC
BEGIN:STANDARD
TZOFFSETFROM:+0000
TZOFFSETTO:+0000
TZNAME:UTC
DTSTART:20240101T000000
END:STANDARD
END:VTIMEZONE
BEGIN:VEVENT
DTSTART;TZID=UTC:20250915T150000
DTEND;TZID=UTC:20250915T163000
DTSTAMP:20260421T234115
CREATED:20250818T070833Z
LAST-MODIFIED:20250825T104737Z
UID:3017-1757948400-1757953800@lemonlab.cz
SUMMARY:Jak co nejlépe podpořit psychomotorický vývoj ve všedním dni?
DESCRIPTION:Zveme vás na praktický 1\,5hodinový workshop zaměřený na podporu psychomotorického vývoje miminek. \nSpolečně si ukážeme: \n\njaké jsou hlavní vývojové milníky v prvním roce života\njak je správně stimulovat a podpořit\,\npraktické cviky a tipy pro každodenní cvičení\,\nvhodné způsoby nošení a manipulace (handling) s miminkem.\n\nWorkshop propojuje teorii s praxí – maminky si vše vyzkouší přímo se svým miminkem a odnesou si jednoduché a efektivní tipy pro každodenní péči i hru. \nTematikou Vás provede Johana Vtípilová (@vtipilka)\, která se specializuje na pohybové aktivity pro nejmenší\, vaničkování a plavání s miminky a správnou manipulaci s miminky\, a to vše s respektem k jejich psychomotorickému vývoji. \nDůležité informace: \nSetkání je koncipováno na 1\,5 hodiny a je potřeba se na něj přihlásit. Pokud máte zájem přijít ve dvou (dospělí)\, přihlaste se prosím dvakrát. Na akci nebude zajištěno hlídání dětí\, starší miminka ale mohou být s Vámi nebo si u Vás hrát. \nWorkshop je zaměřený na věkovou skupinu dětí 5-10 měsíců.  \nS sebou karimatku a oblíbenou hračku pro miminko. \nAkce se koná 15.9. 2025 od 15:00 -16:30. Je možné\, že se Vám v kalendáři může zapsat špatný čas. Platí ten\, který je uveden zde na webu. Pokud se přihlásíte a nebudete se nakonec moci akce zúčastnit\, dejte nám prosím vědět! (pište na email: viktorie.racko@gmail.com) \nPřihlašování na akci bude spuštěno 25.8. 2025 od 10 hodin.
URL:https://lemonlab.cz/udalost/jak-co-nejlepe-podporit-psychomotoricky-vyvoj-ve-vsednim-dni/
LOCATION:Psychologický ústav AV\, Pod Vodárenskou věží 1143/4\, Praha 8\, Česká republika
ATTACH;FMTTYPE=image/jpeg:https://lemonlab.cz/wp-content/uploads/2024/11/IMG_54022-scaled-e1730899969576.jpg
END:VEVENT
END:VCALENDAR