BEGIN:VCALENDAR
VERSION:2.0
PRODID:-//LemonLab - ECPv6.15.11//NONSGML v1.0//EN
CALSCALE:GREGORIAN
METHOD:PUBLISH
X-ORIGINAL-URL:https://lemonlab.cz
X-WR-CALDESC:Akce na LemonLab
REFRESH-INTERVAL;VALUE=DURATION:PT1H
X-Robots-Tag:noindex
X-PUBLISHED-TTL:PT1H
BEGIN:VTIMEZONE
TZID:UTC
BEGIN:STANDARD
TZOFFSETFROM:+0000
TZOFFSETTO:+0000
TZNAME:UTC
DTSTART:20240101T000000
END:STANDARD
END:VTIMEZONE
BEGIN:VEVENT
DTSTART;TZID=UTC:20250601T140000
DTEND;TZID=UTC:20250601T170000
DTSTAMP:20260422T024953
CREATED:20250515T084129Z
LAST-MODIFIED:20250528T102357Z
UID:2949-1748786400-1748797200@lemonlab.cz
SUMMARY:ZRUŠENO - Den dětí v Lemon Labu
DESCRIPTION:Je nám to velmi líto\, ale pro nízký zájem se akce Den dětí v Lemon Labu ruší. \nO dalších akcích komunitního Klubu Mambiente Vás budeme informovat v našem Newsletteru.
URL:https://lemonlab.cz/udalost/den-deti-v-lemon-labu/
LOCATION:Psychologický ústav AV\, Pod Vodárenskou věží 1143/4\, Praha 8\, Česká republika
ATTACH;FMTTYPE=image/png:https://lemonlab.cz/wp-content/uploads/2025/05/Navrh-bez-nazvu-2-1-scaled.png
END:VEVENT
END:VCALENDAR