BEGIN:VCALENDAR
VERSION:2.0
PRODID:-//LemonLab - ECPv6.15.11//NONSGML v1.0//EN
CALSCALE:GREGORIAN
METHOD:PUBLISH
X-ORIGINAL-URL:https://lemonlab.cz
X-WR-CALDESC:Akce na LemonLab
REFRESH-INTERVAL;VALUE=DURATION:PT1H
X-Robots-Tag:noindex
X-PUBLISHED-TTL:PT1H
BEGIN:VTIMEZONE
TZID:UTC
BEGIN:STANDARD
TZOFFSETFROM:+0000
TZOFFSETTO:+0000
TZNAME:UTC
DTSTART:20230101T000000
END:STANDARD
END:VTIMEZONE
BEGIN:VTIMEZONE
TZID:Europe/Prague
BEGIN:DAYLIGHT
TZOFFSETFROM:+0100
TZOFFSETTO:+0200
TZNAME:CEST
DTSTART:20240331T010000
END:DAYLIGHT
BEGIN:STANDARD
TZOFFSETFROM:+0200
TZOFFSETTO:+0100
TZNAME:CET
DTSTART:20241027T010000
END:STANDARD
BEGIN:DAYLIGHT
TZOFFSETFROM:+0100
TZOFFSETTO:+0200
TZNAME:CEST
DTSTART:20250330T010000
END:DAYLIGHT
BEGIN:STANDARD
TZOFFSETFROM:+0200
TZOFFSETTO:+0100
TZNAME:CET
DTSTART:20251026T010000
END:STANDARD
BEGIN:DAYLIGHT
TZOFFSETFROM:+0100
TZOFFSETTO:+0200
TZNAME:CEST
DTSTART:20260329T010000
END:DAYLIGHT
BEGIN:STANDARD
TZOFFSETFROM:+0200
TZOFFSETTO:+0100
TZNAME:CET
DTSTART:20261025T010000
END:STANDARD
END:VTIMEZONE
BEGIN:VEVENT
DTSTART;TZID=UTC:20260330T150000
DTEND;TZID=UTC:20260330T160000
DTSTAMP:20260420T155844
CREATED:20260316T122054Z
LAST-MODIFIED:20260324T114925Z
UID:3383-1774882800-1774886400@lemonlab.cz
SUMMARY:Přednáška s Dr. Paillereau
DESCRIPTION:Vážení rodiče\, \nRádi bychom Vás pozvali na přednášku s Dr. Nikolou Paillereau\, která se koná 30.3. 2026 od 15:00 do 16:00. \nV přednášce se dozvíte například: \n\njak se v mozku miminek zprácovává řeč\njak se zprácovávání řeči mení během prvních měsíců života\nukážeme Vám první výsledky z našeho výzkumu\n\nNa přednášku můžete dorazit i s miminkem. \nMoc se těšíme!
URL:https://lemonlab.cz/udalost/3383/
ATTACH;FMTTYPE=application/pdf:https://lemonlab.cz/wp-content/uploads/2026/03/Pozvanka-Mambiente-Brezen.pdf
END:VEVENT
BEGIN:VEVENT
DTSTART;TZID=UTC:20260209T150000
DTEND;TZID=UTC:20260209T160000
DTSTAMP:20260420T155844
CREATED:20260119T114339Z
LAST-MODIFIED:20260119T114339Z
UID:3367-1770649200-1770652800@lemonlab.cz
SUMMARY:Přednáška Dr. Paillereau (Jak se děti učí mluvit+tipy pro rodiče s bilingvními dětmi)
DESCRIPTION:Vážení rodiče\, \nrádi bychom  Vás pozvali na přednášku Dr. Nikoly Paillereau\, která se koná 9.2. 2026 od 15:00 do 16:00. \nV přednášce se dozvíte například: \n\nco děti slyší\, když jsou ještě v bříšku\nco se mohou naučit už během těhotenství\na pokud máte dvojjazyčné miminko\, také tipy\, jak nejlépe zajistit\, aby si osvojilo oba jazyky efektivně.\n\nNa přednášku můžete dorazit i s miminkem. \nMoc se těšíme!
URL:https://lemonlab.cz/udalost/prednaska-dr-paillereau-jak-se-deti-uci-mluvittipy-pro-rodice-s-bilingvnimi-detmi/
ATTACH;FMTTYPE=image/jpeg:https://lemonlab.cz/wp-content/uploads/2025/12/A1_8186.jpg
END:VEVENT
BEGIN:VEVENT
DTSTART;TZID=UTC:20260112T150000
DTEND;TZID=UTC:20260112T160000
DTSTAMP:20260420T155844
CREATED:20251215T140007Z
LAST-MODIFIED:20251215T140007Z
UID:3345-1768230000-1768233600@lemonlab.cz
SUMMARY:Přednáška Dr. Paillereau (Jak se děti učí mluvity + tipy pro rodiče s bilingvními dětmi
DESCRIPTION:Vážení rodiče\, \nrádi bychom  Vás pozvali na přednášku Dr. Nikoly Paillereau\, která se koná 12.1. 2026 od 15:00 do 16:00. \nV přednášce se dozvíte například: \n\nco děti slyší\, když jsou ještě v bříšku\nco se mohou naučit už během těhotenství\na pokud máte dvojjazyčné miminko\, také tipy\, jak nejlépe zajistit\, aby si osvojilo oba jazyky efektivně.\n\nNa přednášku můžete dorazit i s miminkem. \nMoc se těšíme!
URL:https://lemonlab.cz/udalost/prednaska-dr-paillereau-jak-se-deti-uci-mluvity-tipy-pro-rodice-s-bilingvnimi-detmi/
ATTACH;FMTTYPE=image/jpeg:https://lemonlab.cz/wp-content/uploads/2025/12/A1_8186.jpg
END:VEVENT
BEGIN:VEVENT
DTSTART;TZID=UTC:20251124T150000
DTEND;TZID=UTC:20251124T163000
DTSTAMP:20260420T155844
CREATED:20251103T132813Z
LAST-MODIFIED:20251103T132813Z
UID:3267-1763996400-1764001800@lemonlab.cz
SUMMARY:Lecture and Mary Kay
DESCRIPTION:We invite all families to a special lecture on how affective touch between mother and infant regulates stress and supports bonding. \nAfter the talk\, Alice Pavlů\, an expert in skin care and women´s development\, will share her insights on self-care and beauty. \nThe event is on November 24\, 2025\, 3:00-4:30 PM in Ládví. \nPlease note: sometimes the wrong time may appear in your calendar. The correct time is the one shown here on the website. \nIf you register but later cannot attend\, please let us know at lemonlab@praha.psu.cas.cz \nRegistration opens on November 7\, 2025.
URL:https://lemonlab.cz/udalost/lecture-and-mary-kay/
ATTACH;FMTTYPE=image/jpeg:https://lemonlab.cz/wp-content/uploads/2025/11/stazeny-soubor.jpg
END:VEVENT
BEGIN:VEVENT
DTSTART;TZID=UTC:20251020T150000
DTEND;TZID=UTC:20251020T160000
DTSTAMP:20260420T155844
CREATED:20250930T162958Z
LAST-MODIFIED:20250930T162958Z
UID:3170-1760972400-1760976000@lemonlab.cz
SUMMARY:Relaxační jóga
DESCRIPTION:V říjnu se v klubu Mambiente sejdeme na oddechovém cvičení jógy. Instruktorka Sára Mádrová Vás na setkání zve takto: \n„Oblečte se do sportovního a zabalte své jóga podložky/karimatky! Během těchto 40–⁠⁠⁠⁠⁠⁠50 minut jógy se zaměříme především na relaxaci\, ale zároveň si protáhneme tělo v pomalé flow\, s důrazem na zahřátí a zklidnění. Program je určen především maminkám\, které si chtějí odpočinout\, nabrat sílu a zklidnit mysl. Jóga je vhodná pro všechny úrovně zkušeností\, a proto neváhejte přijít\, i pokud jste začátečnice. Těšíme se na Vás!“ \nCvičení je vhodné pro jakékoli maminky\, které jsou již po porodu\, ačkoliv se na poporodní péči nezaměřuje –⁠⁠⁠⁠⁠⁠ jde o klasickou relaxační jógu pro dospělé\, kterou si ale můžete užít  v bezpečném prostředí\, kde u sebe můžete mít miminko\, kdykoli se zastavit a pohrát si s ním\, nakojit\, odejít z místnosti nebo na chvíli přestat cvičit. \nDůležité informace: \nSetkání je koncipováno na 1 hodinu a je potřeba se na něj přihlásit. Pokud máte zájem přijít ve dvou (dospělí)\, přihlaste se prosím dvakrát. Na akci nebude zajištěno hlídání dětí\, starší miminka ale mohou být s Vámi nebo si u Vás hrát. S sebou si prosím přineste pohodlné oblečení a vlastní karimatku. Akce se koná 20.10. 2025 od 15:00 -16:00. Je možné\, že se Vám v kalendáři může zapsat špatný čas. Platí ten\, který je uveden zde na webu. Pokud se přihlásíte a nebudete se nakonec moci akce zúčastnit\, dejte nám prosím vědět! (pište na email: lemonlab@praha.psu.cas.cz). Přihlašování na akci bude spuštěno 2.10. 2025 od 10 hodin.
URL:https://lemonlab.cz/udalost/relaxacni-joga-2/
LOCATION:Psychologický ústav AV\, Pod Vodárenskou věží 1143/4\, Praha 8\, Česká republika
ATTACH;FMTTYPE=image/jpeg:https://lemonlab.cz/wp-content/uploads/2024/10/joga-scaled.jpg
END:VEVENT
BEGIN:VEVENT
DTSTART;TZID=UTC:20250915T150000
DTEND;TZID=UTC:20250915T163000
DTSTAMP:20260420T155844
CREATED:20250818T070833Z
LAST-MODIFIED:20250825T104737Z
UID:3017-1757948400-1757953800@lemonlab.cz
SUMMARY:Jak co nejlépe podpořit psychomotorický vývoj ve všedním dni?
DESCRIPTION:Zveme vás na praktický 1\,5hodinový workshop zaměřený na podporu psychomotorického vývoje miminek. \nSpolečně si ukážeme: \n\njaké jsou hlavní vývojové milníky v prvním roce života\njak je správně stimulovat a podpořit\,\npraktické cviky a tipy pro každodenní cvičení\,\nvhodné způsoby nošení a manipulace (handling) s miminkem.\n\nWorkshop propojuje teorii s praxí – maminky si vše vyzkouší přímo se svým miminkem a odnesou si jednoduché a efektivní tipy pro každodenní péči i hru. \nTematikou Vás provede Johana Vtípilová (@vtipilka)\, která se specializuje na pohybové aktivity pro nejmenší\, vaničkování a plavání s miminky a správnou manipulaci s miminky\, a to vše s respektem k jejich psychomotorickému vývoji. \nDůležité informace: \nSetkání je koncipováno na 1\,5 hodiny a je potřeba se na něj přihlásit. Pokud máte zájem přijít ve dvou (dospělí)\, přihlaste se prosím dvakrát. Na akci nebude zajištěno hlídání dětí\, starší miminka ale mohou být s Vámi nebo si u Vás hrát. \nWorkshop je zaměřený na věkovou skupinu dětí 5-10 měsíců.  \nS sebou karimatku a oblíbenou hračku pro miminko. \nAkce se koná 15.9. 2025 od 15:00 -16:30. Je možné\, že se Vám v kalendáři může zapsat špatný čas. Platí ten\, který je uveden zde na webu. Pokud se přihlásíte a nebudete se nakonec moci akce zúčastnit\, dejte nám prosím vědět! (pište na email: viktorie.racko@gmail.com) \nPřihlašování na akci bude spuštěno 25.8. 2025 od 10 hodin.
URL:https://lemonlab.cz/udalost/jak-co-nejlepe-podporit-psychomotoricky-vyvoj-ve-vsednim-dni/
LOCATION:Psychologický ústav AV\, Pod Vodárenskou věží 1143/4\, Praha 8\, Česká republika
ATTACH;FMTTYPE=image/jpeg:https://lemonlab.cz/wp-content/uploads/2024/11/IMG_54022-scaled-e1730899969576.jpg
END:VEVENT
BEGIN:VEVENT
DTSTART;TZID=UTC:20250601T140000
DTEND;TZID=UTC:20250601T170000
DTSTAMP:20260420T155844
CREATED:20250515T084129Z
LAST-MODIFIED:20250528T102357Z
UID:2949-1748786400-1748797200@lemonlab.cz
SUMMARY:ZRUŠENO - Den dětí v Lemon Labu
DESCRIPTION:Je nám to velmi líto\, ale pro nízký zájem se akce Den dětí v Lemon Labu ruší. \nO dalších akcích komunitního Klubu Mambiente Vás budeme informovat v našem Newsletteru.
URL:https://lemonlab.cz/udalost/den-deti-v-lemon-labu/
LOCATION:Psychologický ústav AV\, Pod Vodárenskou věží 1143/4\, Praha 8\, Česká republika
ATTACH;FMTTYPE=image/png:https://lemonlab.cz/wp-content/uploads/2025/05/Navrh-bez-nazvu-2-1-scaled.png
END:VEVENT
BEGIN:VEVENT
DTSTART;TZID=UTC:20250429T143000
DTEND;TZID=UTC:20250429T163000
DTSTAMP:20260420T155844
CREATED:20250309T192739Z
LAST-MODIFIED:20250320T113015Z
UID:2842-1745937000-1745944200@lemonlab.cz
SUMMARY:Přednáška a workshop - fyzioterapie ruky
DESCRIPTION:Máte unavené ruce? Bolí vás šlachy? Brní vás ruce v noci? Ukážeme si\, co pro své ruce můžete udělat vy samy. Budeme si povídat o tom\, kdy vyhledat specialistu. Fyzioterapeutka se specializací na rehabilitaci ruky vás nejprve seznámí se základy anatomie s biomechaniky ruky. Bude představena terapie se zaměřením na nejčastějšími problémy u maminek. Budeme si povídat o alternativách nošení a polohách při kojení a spánku\, které mohou pomoci problémům předcházet. Po přestávce bude následovat blok cvičení pro maminky. Cvičení budou jednoduchá\, tak\, aby se daly aplikovat v životě s miminkem do 1 roku. \nAkce se koná pod záštitou České společnosti terapie ruky (https://www.terapieruky.cz/). Cvičením Vás provede paní Petra Korábová. \nDůležité informace:\nNa cvičení si prosím přineste vlastní podložku. Vhodný je také jógový pásek (pokud nemáte\, tak stačí pásek/šála dlouhé 2m).\nLekce je určena primárně maminkám\, není koncipována jako cvičení s dětmi. Pokud však přijdete s miminkem\, můžete se kdykoliv zastavit\, pohrát si s ním\, nakojit nebo si na chvíli odpočinout. V místnosti bude k dispozici zázemí pro miminka. \nAkce se koná 29.4.2025 od 14:30-16:30. Je možné\, že se Vám v kalendáři může zapsat špatný čas. Platí ten\, který je uveden zde na webu. Pokud se přihlásíte a nebudete se nakonec moci akce zúčastnit\, dejte nám prosím vědět! (pište na email: viktorie.racko@gmail.com)\nPřihlašování na akci bude spuštěno od 24.3. 2025 \nBudeme se na Vás těšit! 🙂 \n  \n  \n 
URL:https://lemonlab.cz/udalost/prednaska-a-workshop-fyzioterapie-ruky/
ATTACH;FMTTYPE=image/jpeg:https://lemonlab.cz/wp-content/uploads/2025/03/callum-skelton-3KLMq7y46nA-unsplash-1-scaled.jpg
END:VEVENT
BEGIN:VEVENT
DTSTART;TZID=UTC:20250312T150000
DTEND;TZID=UTC:20250312T170000
DTSTAMP:20260420T155844
CREATED:20250224T123814Z
LAST-MODIFIED:20250224T123814Z
UID:2821-1741791600-1741798800@lemonlab.cz
SUMMARY:Psychomotorický vývoj miminek a správná manipulace
DESCRIPTION:Pro velký zájem opakujeme setkání věnované manipulaci s miminky v prvních měsících života. Instruktorka Johana Vtípilová Vás nejprve seznámí s problematikou raného psychomotorického vývoje v průběhu prvních měsíců od narození a následně s tématem manipulace s miminky jakožto možné prevence nesprávného nebo opožděného vývoje. Pak s Vámi projde praktickým workshopem\, kde si budete moci techniky sami vyzkoušet. \nDůležité informace: \nWorkshop je určen především těhotným maminkám\, které si budou manipulaci zkoušet na panenkách\, případně pro maminky do čtyř až pěti měsíců po porodu\, které si některé techniky mohou vyzkoušet s miminkem\, některé s panenkou. \nSetkání je koncipováno na dvě hodiny a je potřeba se na něj přihlásit. Pokud máte zájem přijít ve dvou\, přihlaste se prosím dvakrát. Na akci nebude zajištěno hlídání dětí\, starší miminka ale mohou být s Vámi nebo si u Vás hrát. Pokud se přihlásíte a nebudete se nakonec moci akce zúčastnit\, dejte nám prosím vědět! (pište na email: viktorie.racko@gmail.com) \nTématikou Vás provede Johana Vtípilová (@vtipilka)\, která se specializuje na pohybové aktivity pro nejmenší\, vaničkování a plavání s miminky a správnou manipulaci s miminky\, a to vše s respektem k jejich psychomotorickému vývoji. \nJohana Vás srdečně zve: \nPojďme se podívat na to\, co je v psychomotorickém vývoji důležité a jak na to 🙂 \nPřihlašování na akci bude spuštěno 26.2. 2025
URL:https://lemonlab.cz/udalost/psychomotoricky-vyvoj-miminek-a-spravna-manipulace/
LOCATION:Psychologický ústav AV\, Pod Vodárenskou věží 1143/4\, Praha 8\, Česká republika
ATTACH;FMTTYPE=image/jpeg:https://lemonlab.cz/wp-content/uploads/2024/11/IMG_54022-scaled-e1730899969576.jpg
END:VEVENT
BEGIN:VEVENT
DTSTART;TZID=UTC:20250226T150000
DTEND;TZID=UTC:20250226T170000
DTSTAMP:20260420T155844
CREATED:20250203T084513Z
LAST-MODIFIED:20250204T135812Z
UID:2795-1740582000-1740589200@lemonlab.cz
SUMMARY:Přednáška a cvičení - Pilates
DESCRIPTION:V únoru se v klubu Mambiente sejdeme na lekci pilates spojenou s doprovodnou přednáškou. Akcí nás provede instruktorka Daniela Nonfriedová. \nJak bude akce probíhat? \nSetkání bude rozděleno do dvou částí. Nejprve nám instruktorka Daniela přiblíží pilates – co to vlastně je\, jaká je jeho historie a jak se jeho současná podoba liší od té původní. Dozvíme se také o pilates strojích a jejich fungování. Po krátké pauze bude následovat praktická část – hodina cvičení s vlastní vahou. Na závěr bude prostor pro otázky. \nDůležité informace: \nCvičení není vhodné pro těhotné ženy ani maminky v šestinedělí. Lekce je určena primárně maminkám\, není koncipována jako cvičení s dětmi. Pokud však přijdete s miminkem\, můžete se kdykoliv zastavit\, pohrát si s ním\, nakojit nebo si na chvíli odpočinout. V místnosti bude k dispozici zázemí pro miminka. \nNa cvičení si prosím přineste vlastní podložku. Cvičíme naboso nebo v ponožkách. Bude připraveno malé občerstvení\, přesto doporučujeme přinést si vlastní pití. \nPřihlašování bude spuštěno 4.2.2025 v 10:00
URL:https://lemonlab.cz/udalost/prednaska-a-cviceni-pilates/
LOCATION:Psychologický ústav AV\, Pod Vodárenskou věží 1143/4\, Praha 8\, Česká republika
ATTACH;FMTTYPE=image/jpeg:https://lemonlab.cz/wp-content/uploads/2024/10/joga-scaled.jpg
END:VEVENT
BEGIN:VEVENT
DTSTART;TZID=Europe/Prague:20250122T140000
DTEND;TZID=Europe/Prague:20250122T160000
DTSTAMP:20260420T155844
CREATED:20241219T135721Z
LAST-MODIFIED:20241219T140137Z
UID:2755-1737554400-1737561600@lemonlab.cz
SUMMARY:Přednáška a diskuze: Vliv porodu na mateřství (Adéla Lančová)
DESCRIPTION:Mgr. Adéla Lančová z České asociace dul vás srdečně zve na svou přednášku na téma vlivu porodu na mateřství: \nPorod je jedním z nejsilnějších okamžiků života ženy i celé rodiny. Žena při něm objeví zcela nové hranice svých možností. To\, jakým způsobem porod proběhne a co si z něho odneseme\, silně ovlivňuje naše celkové prožívání rodičovství. V přednášce si řekneme\, co je důležité pro to\, abyste do své mateřské role vstupovala posílená a s pocitem kompetence. Co je naopak to\, co vaši sebedůvěru dokáže úplně zničit a vaše mateřství tak zatížit velmi negativními emocemi. \nPřednáška proběhne u nás v Ládví v prostorách Psychologického ústavu. Je plánovaná cca na 90 minut a následovat bude cca půl hodiny na otázky a společnou diskuzi. K účasti je potřeba se přihlásit\, a pokud máte zájem přijít ve dvou\, například s partnerem či partnerkou\, přihlaste se prosím dvakrát. Pokud se přihlásíte a nebudete se nakonec moci akce zúčastnit\, dejte nám prosím vědět! Na akci nebude zajištěno hlídání dětí\, miminka ale mohou být s vámi nebo si u vás hrát\, a kdykoli si můžete dle potřeby nakojit\, jít si s dětmi pohrát a podobně – vše se dá přizpůsobit vašim potřebám. \nNa setkání zveme především maminky budoucí\, ale i ty\, které v budoucnu plánují další děti.
URL:https://lemonlab.cz/udalost/prednaska-a-diskuze-vliv-porodu-na-materstvi-adela-lancova/
LOCATION:Psychologický ústav AV\, Pod Vodárenskou věží 1143/4\, Praha 8\, Česká republika
ATTACH;FMTTYPE=application/pdf:https://lemonlab.cz/wp-content/uploads/2024/12/mambiente-leden-1.pdf
END:VEVENT
BEGIN:VEVENT
DTSTART;TZID=UTC:20241212T150000
DTEND;TZID=UTC:20241212T170000
DTSTAMP:20260420T155844
CREATED:20241129T120814Z
LAST-MODIFIED:20241202T161918Z
UID:2684-1734015600-1734022800@lemonlab.cz
SUMMARY:Opakování: Psychomotorický vývoj miminek a správná manipulace
DESCRIPTION:Pro velký zájem opakujeme setkání věnované manipulaci s miminky v prvních měsících života. Instruktorka Johana Vtípilová vás nejprve seznámí s problematikou raného psychomotorického vývoje v průběhu prvních měsíců od narození a následně s tématem manipulace s miminky jakožto možné prevence nesprávného nebo opožděného vývoje. Pak s Vámi projde praktickým workshopem\, kde si budete moci techniky sami vyzkoušet. \nWorkshop je určen především těhotným maminkám\, které si budou manipulaci zkoušet na panenkách\, a případně pro maminky do čtyř až pěti měsíců po porodu\, které si některé techniky vyzkoušet s miminkem\, některé s panenkou. \nSetkání je koncipováno na dvě hodiny a je potřeba se na něj přihlásit. Pokud máte zájem přijít ve dvou\, přihlaste se prosím dvakrát. Na akci nebude zajištěno hlídání dětí\, starší miminka ale mohou být s vámi nebo si u vás hrát. Pokud se přihlásíte a nebudete se nakonec moci akce zúčastnit\, dejte nám prosím vědět! \nTématikou vás provede Johana Vtípilová (vanickovanidoma.cz)\, která se specializuje na pohybové aktivity pro nejmenší\, vaničkování a plavání s miminky a správnou manipulaci s miminky\, a to vše s respektem k jejich psychomotorickému vývoji. \nJohana Vás srdečně zve: \nPojďme se podívat na to\, co je v psychomotorickém vývoji důležité a jak na to 🙂 \n(Na toto setkání komunitního klubu dorazí krátce náš fotograf\, který událost vyfotografuje pro účely našeho webu\, propagačních materiálů apod.)
URL:https://lemonlab.cz/udalost/opakovani-psychomotoricky-vyvoj-miminek-a-spravna-manipulace/
LOCATION:Psychologický ústav AV\, Pod Vodárenskou věží 1143/4\, Praha 8\, Česká republika
ATTACH;FMTTYPE=image/jpeg:https://lemonlab.cz/wp-content/uploads/2024/11/IMG_54022-scaled-e1730899969576.jpg
END:VEVENT
BEGIN:VEVENT
DTSTART;TZID=UTC:20241125T150000
DTEND;TZID=UTC:20241125T163000
DTSTAMP:20260420T155844
CREATED:20241106T130809Z
LAST-MODIFIED:20241107T131034Z
UID:2562-1732546800-1732552200@lemonlab.cz
SUMMARY:Psychomotorický vývoj miminek a správná manipulace
DESCRIPTION:Pro zájem opakujeme setkání věnované manipulaci s miminky v prvních měsících života. Instruktorka Johana Vtípilová vás nejprve seznámí s problematikou raného psychomotorického vývoje a manipulace s miminky jakožto možné prevence nesprávného nebo opožděného vývoje a pak s Vámi projde praktickým workshopem\, kde si budete moci techniky sami vyzkoušet. \nWorkshop je určen především těhotným maminkám\, které si budou manipulaci zkoušet na panenkách\, a případně pro maminky do čtyř až pěti měsíců po porodu\, které si některé techniky vyzkoušet s miminkem\, některé s panenkou. \nNa setkání je potřeba se přihlásit\, pokud máte zájem přijít ve dvou\, přihlaste se prosím dvakrát. Na akci nebude zajištěno hlídání dětí\, starší miminka ale mohou být s vámi nebo si u vás hrát. Pokud se přihlásíte a nebudete se nakonec moci akce zúčastnit\, dejte nám prosím vědět! \nTématikou vás provede Johana Vtípilová (vanickovanidoma.cz)\, která se specializuje na pohybové aktivity pro nejmenší\, vaničkování a plavání s miminky a správnou manipulaci s miminky\, a to vše s respektem k jejich psychomotorickému vývoji. \nJohana Vás srdečně zve: \n\nPojďme se podívat na to\, co je v psychomotorickém vývoji důležité a jak na to 🙂
URL:https://lemonlab.cz/udalost/workshop-manipulace-s-miminky/
LOCATION:Psychologický ústav AV\, Pod Vodárenskou věží 1143/4\, Praha 8\, Česká republika
ATTACH;FMTTYPE=image/jpeg:https://lemonlab.cz/wp-content/uploads/2024/11/IMG_5402-1-scaled-e1730898142497.jpg
END:VEVENT
BEGIN:VEVENT
DTSTART;TZID=UTC:20241030T160000
DTEND;TZID=UTC:20241030T170000
DTSTAMP:20260420T155844
CREATED:20241007T175711Z
LAST-MODIFIED:20241007T175742Z
UID:2547-1730304000-1730307600@lemonlab.cz
SUMMARY:Relaxační jóga
DESCRIPTION:V říjnu se v klubu Mambiente sejdeme na oddechovém cvičení jógy. Intruktorka Sára Mádrová Vás na setkání zve takto: \n„Oblečte se do sportovního a zabalte své jóga podložky/karimatky! Během těchto 40–⁠⁠⁠⁠⁠⁠50 minut jógy se zaměříme především na relaxaci\, ale zároveň si protáhneme tělo v pomalé flow\, s důrazem na zahřátí a zklidnění. Program je určen především maminkám\, které si chtějí odpočinout\, nabrat sílu a zklidnit mysl. Jóga je vhodná pro všechny úrovně zkušeností\, a proto neváhejte přijít\, i pokud jste začátečnice. Těšíme se na Vás!“ \nCvičení je vhodné pro jakékoli maminky\, které jsou již po porodu\, ačkoliv se na poporodní péči nezaměřuje –⁠⁠⁠⁠⁠⁠ jde o klasickou relaxační jógu pro dospělé\, kterou si ale můžete užít  v bezpečném prostředí\, kde u sebe můžete mít miminko\, kdykoli se zastavit a pohrát si s ním\, nakojit\, odejít z místnosti nebo na chvíli přestat cvičit. Je také možné\, aby Vás doprovodil partner\, který může počkat (sám nebo s miminkem) ve vedlejší komunitní místnosti. \nS sebou si prosím přineste pohodlné oblečení a vlastní karimatku.
URL:https://lemonlab.cz/udalost/relaxacni-joga/
ATTACH;FMTTYPE=image/jpeg:https://lemonlab.cz/wp-content/uploads/2024/10/joga-scaled.jpg
END:VEVENT
BEGIN:VEVENT
DTSTART;TZID=UTC:20240924T150000
DTEND;TZID=UTC:20240924T170000
DTSTAMP:20260420T155844
CREATED:20240813T122208Z
LAST-MODIFIED:20240823T081134Z
UID:2365-1727190000-1727197200@lemonlab.cz
SUMMARY:Workshop: Obnova těla v prvním roce po porodu
DESCRIPTION:Pohybová specialistka Jana Javůrková si pro vás přichystá program věnovaný zdraví maminek po porodu a ukáže a poradí vám\, co vaše tělo potřebuje a jak mu pomáhat. \n\nUrčeno maminkám v prvním roce po porodu a případně i zájemkyním mezi těhotnými maminkami.\nPoporodní jemné\, ale efektivní cvičení\, kterého se nemusíte bát. Pomalé cvičení\, při kterém zapojíme ty nejhlubší svaly.\nS sebou: pohodlné oblečení\, karimatku a ručník.\nCelé setkání je plánováno cca na dvě hodiny\, nejdříve krátká přednáška o jazykovém vývoji (bude doplněno) a pak workshop na cca 90 minut.\nAkce je určena pouze maminkám (mohou u sebe mít miminka)\, tatínci mohou být ve vedlejší komunitní místnosti (sami nebo s miminkem).\nNa akci je potřeba se předem přihlásit\, pokud se přihlásíte a nakonec nebudete moci dorazit\, dejte nám prosím vědět.\nLáskou k sobě – www.janajavurkova.cz FB: Jana Javůrková – Láskou k sobě\n\nPaní Javůrková vás na akci zve takto: \nPřipravila jsem pro vás speciální workshop zaměřený na obnovu těla po porodu. Společně se podíváme na komplexní regeneraci vašeho těla od hlavy až k patě\, s důrazem na střed těla\, pánevní dno a diastázu. Pomůžu vám navázat hlubší spojení mezi tělem a duší prostřednictvím jemného dotyku a intuice. \nNaučím vás\, jak efektivně pracovat se svým tělem\, jak chránit svá záda při manipulaci s miminkem a nabídnu vám další šikovné tipy\, které výrazně zlepší kvalitu vašeho života po porodu. \nTěším se na setkání s vámi! \n 
URL:https://lemonlab.cz/udalost/obnova-po-porodu/
LOCATION:Psychologický ústav AV\, Pod Vodárenskou věží 1143/4\, Praha 8\, Česká republika
ATTACH;FMTTYPE=image/jpeg:https://lemonlab.cz/wp-content/uploads/2024/08/DSC09682-2-scaled-2.jpg
END:VEVENT
BEGIN:VEVENT
DTSTART;TZID=UTC:20240812T150000
DTEND;TZID=UTC:20240812T170000
DTSTAMP:20260420T155844
CREATED:20240731T090609Z
LAST-MODIFIED:20240806T093722Z
UID:2350-1723474800-1723482000@lemonlab.cz
SUMMARY:Koupání → vaničkování → plavání
DESCRIPTION:Krátká přednáška a společná aktivita budou tento měsíc spojeny do jednoho programu: Johana Vtípilová (vanickovanidoma.cz) s vámi probere nejrůznější témata týkající se vztahu k vodě\, koupání a vaničkování v prvních měsících miminka. Program je určen především nastávajícím maminkám a maminkám dětí do cca pěti měsíců. \nHlavní témata budou: \n\njak vytvořit kladný vztah k vodě hned od začátku;\nkoupání nejmenších;\nvaničkování – o co se jedná\, k čemu j dobré a pro koho je vhodné;\npočátky plavání.\n\nMaminky si nebudou vaničkování zkoušet samy (s miminky nebo panenkami)\, ale vše bude názorně ukázáno na videích a fotografiích. \nNa setkání mohou přijít oba rodiče\, je ale potřeba přihlásit se dvakrát.
URL:https://lemonlab.cz/udalost/koupani-%e2%86%92-vanickovani-%e2%86%92-plavani/
ATTACH;FMTTYPE=image/jpeg:https://lemonlab.cz/wp-content/uploads/2024/07/baby-76087_640-1.jpg
END:VEVENT
BEGIN:VEVENT
DTSTART;TZID=UTC:20240711T150000
DTEND;TZID=UTC:20240711T170000
DTSTAMP:20260420T155844
CREATED:20240626T202328Z
LAST-MODIFIED:20240628T145123Z
UID:2201-1720710000-1720717200@lemonlab.cz
SUMMARY:Jak se děti učí "mluvit" už před narozením a Workshop manipulace s miminkem (těhotné maminky)
DESCRIPTION:Dr. Nikola Paillereau (LemonLab) představí náš výzkum a poví vám něco o tom\, co všechno už miminko slyší a vnímá v bříšku a jak se to dá zjišťovat. Víte například\, že se miminko ještě v bříšku naučí rozpoznat hlas svojí maminky\, svůj rodný jazyk a například i písničky či říkanky\, které poslouchalo před narozením?\nPo pauze s Vámi pak Johana Vtípilová\, která se věnuje psychomotorickému vývoji miminek\,  projde praktickým workshopem manipulace s miminky v prvních měsících po narození. Na setkání je potřeba se přihlásit\, pokud máte zájem přijít ve dvou\, přihlaste se prosím dvakrát.\nNa akci nebude zajištěno hlídání dětí\, starší miminka ale mohou být s vámi nebo si u vás hrát.\n\nPokud je setkání již plné\, nebojte se\, tato nebo podobná akce se bude jistě v dalších měsících opakovat (případně se nám můžete ozvat\, pokud tato konkrétní akce byla něco\, co byste měli velký zájem vidět i v dalším termínu.)
URL:https://lemonlab.cz/udalost/jak-se-deti-uci-mluvit-uz-pred-narozenim-a-workshop-manipulace-s-miminkem-tehotne-maminky/
LOCATION:Psychologický ústav AV\, Pod Vodárenskou věží 1143/4\, Praha 8\, Česká republika
ATTACH;FMTTYPE=image/jpeg:https://lemonlab.cz/wp-content/uploads/2024/06/freestocks-ux53SGpRAHU-unsplash-scaled-e1719433384489.jpg
END:VEVENT
BEGIN:VEVENT
DTSTART;TZID=UTC:20240710T150000
DTEND;TZID=UTC:20240710T170000
DTSTAMP:20260420T155844
CREATED:20240626T201459Z
LAST-MODIFIED:20240708T091414Z
UID:2192-1720623600-1720630800@lemonlab.cz
SUMMARY:Jak se děti učí "mluvit" už před narozením a Cvičení Mami + Mimi (děti 8-10 m) (pro nízkou účast tento měsíc zrušeno)
DESCRIPTION:Dr. Nikola Paillereau (LemonLab) představí náš výzkum a poví vám něco o tom\, co všechno už miminko slyší a vnímá v bříšku a jak se to dá zjišťovat. Víte například\, že se miminko ještě v bříšku naučí rozpoznat hlas svojí maminky\, svůj rodný jazyk a například i písničky či říkanky\, které poslouchalo před narozením?\n\n\nPo pauze si pak Johana Vtípilová\, odbornice na cvičení s dětmi si nejdříve krátce zacvičí s vámi a vašimi dětmi a pak vám ukáže i některá cvičení vhodná pro maminky po porodu. Soustředit se bude především na: zpevnění středu těla\, posílení pánevního dna\, cviky proti shrbeným ramenům. \nCvičení bude nenáročné a je plánováno cca na 20 + 20 minut. Vezměte si s sebou prosím cvičební podložku\, pokud ji nemáte\, dejte nám vědět\, přineseme jich několik záložních. Na setkání je potřeba se předem přihlásit. Cvičení je určeno vždy jen pro jednoho rodiče\, ale druhý rodič může mezitím počkat v naší komunitní místnosti.
URL:https://lemonlab.cz/udalost/jak-se-deti-uci-mluvit-uz-pred-narozenim-a-cviceni-mami-mimi-deti-8-10-m/
LOCATION:Psychologický ústav AV\, Pod Vodárenskou věží 1143/4\, Praha 8\, Česká republika
ATTACH;FMTTYPE=image/jpeg:https://lemonlab.cz/wp-content/uploads/2024/06/pexels-karolina-grabowska-4498609-scaled-e1719484658233.jpg
END:VEVENT
END:VCALENDAR