BEGIN:VCALENDAR
VERSION:2.0
PRODID:-//LemonLab - ECPv6.15.11//NONSGML v1.0//EN
CALSCALE:GREGORIAN
METHOD:PUBLISH
X-ORIGINAL-URL:https://lemonlab.cz
X-WR-CALDESC:Akce na LemonLab
REFRESH-INTERVAL;VALUE=DURATION:PT1H
X-Robots-Tag:noindex
X-PUBLISHED-TTL:PT1H
BEGIN:VTIMEZONE
TZID:UTC
BEGIN:STANDARD
TZOFFSETFROM:+0000
TZOFFSETTO:+0000
TZNAME:UTC
DTSTART:20240101T000000
END:STANDARD
END:VTIMEZONE
BEGIN:VEVENT
DTSTART;TZID=UTC:20251124T150000
DTEND;TZID=UTC:20251124T163000
DTSTAMP:20260422T012213
CREATED:20251103T132813Z
LAST-MODIFIED:20251103T132813Z
UID:3267-1763996400-1764001800@lemonlab.cz
SUMMARY:Lecture and Mary Kay
DESCRIPTION:We invite all families to a special lecture on how affective touch between mother and infant regulates stress and supports bonding. \nAfter the talk\, Alice Pavlů\, an expert in skin care and women´s development\, will share her insights on self-care and beauty. \nThe event is on November 24\, 2025\, 3:00-4:30 PM in Ládví. \nPlease note: sometimes the wrong time may appear in your calendar. The correct time is the one shown here on the website. \nIf you register but later cannot attend\, please let us know at lemonlab@praha.psu.cas.cz \nRegistration opens on November 7\, 2025.
URL:https://lemonlab.cz/udalost/lecture-and-mary-kay/
ATTACH;FMTTYPE=image/jpeg:https://lemonlab.cz/wp-content/uploads/2025/11/stazeny-soubor.jpg
END:VEVENT
BEGIN:VEVENT
DTSTART;TZID=UTC:20260112T150000
DTEND;TZID=UTC:20260112T160000
DTSTAMP:20260422T012213
CREATED:20251215T140007Z
LAST-MODIFIED:20251215T140007Z
UID:3345-1768230000-1768233600@lemonlab.cz
SUMMARY:Přednáška Dr. Paillereau (Jak se děti učí mluvity + tipy pro rodiče s bilingvními dětmi
DESCRIPTION:Vážení rodiče\, \nrádi bychom  Vás pozvali na přednášku Dr. Nikoly Paillereau\, která se koná 12.1. 2026 od 15:00 do 16:00. \nV přednášce se dozvíte například: \n\nco děti slyší\, když jsou ještě v bříšku\nco se mohou naučit už během těhotenství\na pokud máte dvojjazyčné miminko\, také tipy\, jak nejlépe zajistit\, aby si osvojilo oba jazyky efektivně.\n\nNa přednášku můžete dorazit i s miminkem. \nMoc se těšíme!
URL:https://lemonlab.cz/udalost/prednaska-dr-paillereau-jak-se-deti-uci-mluvity-tipy-pro-rodice-s-bilingvnimi-detmi/
ATTACH;FMTTYPE=image/jpeg:https://lemonlab.cz/wp-content/uploads/2025/12/A1_8186.jpg
END:VEVENT
BEGIN:VEVENT
DTSTART;TZID=UTC:20260209T150000
DTEND;TZID=UTC:20260209T160000
DTSTAMP:20260422T012213
CREATED:20260119T114339Z
LAST-MODIFIED:20260119T114339Z
UID:3367-1770649200-1770652800@lemonlab.cz
SUMMARY:Přednáška Dr. Paillereau (Jak se děti učí mluvit+tipy pro rodiče s bilingvními dětmi)
DESCRIPTION:Vážení rodiče\, \nrádi bychom  Vás pozvali na přednášku Dr. Nikoly Paillereau\, která se koná 9.2. 2026 od 15:00 do 16:00. \nV přednášce se dozvíte například: \n\nco děti slyší\, když jsou ještě v bříšku\nco se mohou naučit už během těhotenství\na pokud máte dvojjazyčné miminko\, také tipy\, jak nejlépe zajistit\, aby si osvojilo oba jazyky efektivně.\n\nNa přednášku můžete dorazit i s miminkem. \nMoc se těšíme!
URL:https://lemonlab.cz/udalost/prednaska-dr-paillereau-jak-se-deti-uci-mluvittipy-pro-rodice-s-bilingvnimi-detmi/
ATTACH;FMTTYPE=image/jpeg:https://lemonlab.cz/wp-content/uploads/2025/12/A1_8186.jpg
END:VEVENT
BEGIN:VEVENT
DTSTART;TZID=UTC:20260330T150000
DTEND;TZID=UTC:20260330T160000
DTSTAMP:20260422T012213
CREATED:20260316T122054Z
LAST-MODIFIED:20260324T114925Z
UID:3383-1774882800-1774886400@lemonlab.cz
SUMMARY:Přednáška s Dr. Paillereau
DESCRIPTION:Vážení rodiče\, \nRádi bychom Vás pozvali na přednášku s Dr. Nikolou Paillereau\, která se koná 30.3. 2026 od 15:00 do 16:00. \nV přednášce se dozvíte například: \n\njak se v mozku miminek zprácovává řeč\njak se zprácovávání řeči mení během prvních měsíců života\nukážeme Vám první výsledky z našeho výzkumu\n\nNa přednášku můžete dorazit i s miminkem. \nMoc se těšíme!
URL:https://lemonlab.cz/udalost/3383/
ATTACH;FMTTYPE=application/pdf:https://lemonlab.cz/wp-content/uploads/2026/03/Pozvanka-Mambiente-Brezen.pdf
END:VEVENT
BEGIN:VEVENT
DTSTART;TZID=UTC:20260427T143000
DTEND;TZID=UTC:20260427T160000
DTSTAMP:20260422T012213
CREATED:20260413T083013Z
LAST-MODIFIED:20260413T084155Z
UID:3450-1777300200-1777305600@lemonlab.cz
SUMMARY:Psychomotorický vývoj aneb co Vás s miminkem čeká v prvních měsících jeho života
DESCRIPTION:Vážení rodiče\, \nZveme nástávající maminky i rodiče s nejmenšími dětmi na odbornou přednášku s Bc. Johanou Vtípilovou na téma: \n„Psychomotorický vývoj aneb co Vás s miminkem čeká v prvních měsících jeho života“ \nDatum a čas: 27.4.2026 14:30-16:00 \nPřednáška bude rozdělena na teoretickou a praktickou část. V teoretické části se dozvíte důležité informace o vývoji smyslů\, emocí a osobnosti miminka. Praktická část se zaměří na správný handling miminka – ukážeme si\, jak s miminkem manipulovat\, jak vypadá jeho poloha na bříšku a na zádech a další užitečné tipy pro každodenní péči. \nAkce je určena především pro těhotné maminky a maminky s miminky do 3 měsíců věku. \nKapacita je omezena na 12 maminek\, proto je nutná registrace předem na našem webu. \nTěšíme se na setkání!
URL:https://lemonlab.cz/udalost/psychomotoricky-vyvoj-aneb-co-vas-s-miminkem-ceka-v-prvnich-mesicich-jeho-zivota/
ATTACH;FMTTYPE=image/jpeg:https://lemonlab.cz/wp-content/uploads/2026/04/stazeny-soubor.jpg
END:VEVENT
END:VCALENDAR