BEGIN:VCALENDAR
VERSION:2.0
PRODID:-//LemonLab - ECPv6.15.11//NONSGML v1.0//EN
CALSCALE:GREGORIAN
METHOD:PUBLISH
X-WR-CALNAME:LemonLab
X-ORIGINAL-URL:https://lemonlab.cz
X-WR-CALDESC:Akce na LemonLab
REFRESH-INTERVAL;VALUE=DURATION:PT1H
X-Robots-Tag:noindex
X-PUBLISHED-TTL:PT1H
BEGIN:VTIMEZONE
TZID:UTC
BEGIN:STANDARD
TZOFFSETFROM:+0000
TZOFFSETTO:+0000
TZNAME:UTC
DTSTART:20230101T000000
END:STANDARD
END:VTIMEZONE
BEGIN:VEVENT
DTSTART;TZID=UTC:20240710T150000
DTEND;TZID=UTC:20240710T170000
DTSTAMP:20260422T013647
CREATED:20240626T201459Z
LAST-MODIFIED:20240708T091414Z
UID:2192-1720623600-1720630800@lemonlab.cz
SUMMARY:Jak se děti učí "mluvit" už před narozením a Cvičení Mami + Mimi (děti 8-10 m) (pro nízkou účast tento měsíc zrušeno)
DESCRIPTION:Dr. Nikola Paillereau (LemonLab) představí náš výzkum a poví vám něco o tom\, co všechno už miminko slyší a vnímá v bříšku a jak se to dá zjišťovat. Víte například\, že se miminko ještě v bříšku naučí rozpoznat hlas svojí maminky\, svůj rodný jazyk a například i písničky či říkanky\, které poslouchalo před narozením?\n\n\nPo pauze si pak Johana Vtípilová\, odbornice na cvičení s dětmi si nejdříve krátce zacvičí s vámi a vašimi dětmi a pak vám ukáže i některá cvičení vhodná pro maminky po porodu. Soustředit se bude především na: zpevnění středu těla\, posílení pánevního dna\, cviky proti shrbeným ramenům. \nCvičení bude nenáročné a je plánováno cca na 20 + 20 minut. Vezměte si s sebou prosím cvičební podložku\, pokud ji nemáte\, dejte nám vědět\, přineseme jich několik záložních. Na setkání je potřeba se předem přihlásit. Cvičení je určeno vždy jen pro jednoho rodiče\, ale druhý rodič může mezitím počkat v naší komunitní místnosti.
URL:https://lemonlab.cz/udalost/jak-se-deti-uci-mluvit-uz-pred-narozenim-a-cviceni-mami-mimi-deti-8-10-m/
LOCATION:Psychologický ústav AV\, Pod Vodárenskou věží 1143/4\, Praha 8\, Česká republika
ATTACH;FMTTYPE=image/jpeg:https://lemonlab.cz/wp-content/uploads/2024/06/pexels-karolina-grabowska-4498609-scaled-e1719484658233.jpg
END:VEVENT
END:VCALENDAR